2.43840000
0.00000000
0.00000000
-2.43840000
351443.91612022
5388266.53050235
