2.438400
0
0
-2.438400
360600.118524
5388004.123667
