2.438400
0
0
-2.438400
368906.035385
5387780.567599
