2.43840000
0.00000000
0.00000000
-2.43840000
406863.26619856
5387083.60291547
