2.43840000
0.00000000
0.00000000
-2.43840000
416100.08982250
5386939.07163982
