2.43840000
0.00000000
0.00000000
-2.43840000
369604.79866345
5373916.41609725
