2.43840000
0.00000000
0.00000000
-2.43840000
415901.52560434
5373043.58721153
