2.43840000
0.00000000
0.00000000
-2.43840000
369294.17976939
5360022.73316004
