2.43840000
0.00000000
0.00000000
-2.43840000
397131.77215958
5359455.17738190
