2.43840000
0.00000000
0.00000000
-2.43840000
415695.95894038
5359149.61869507
