2.438400
0
0
-2.438400
395660.551308
5331640.420878
