2.43840000
0.00000000
0.00000000
-2.43840000
415293.51813940
5331362.45675228
