2.43840000
0.00000000
0.00000000
-2.43840000
425704.64067729
5414598.07096016
