2.43840000
0.00000000
0.00000000
-2.43840000
452940.61001710
5372612.77725947
