2.43840000
0.00000000
0.00000000
-2.43840000
434261.85392369
5358903.33483672
