2.43840000
0.00000000
0.00000000
-2.43840000
471238.65865629
5358597.20366164
