2.43840000
0.00000000
0.00000000
-2.43840000
424620.86930428
5331230.54668965
