2.43840000
0.00000000
0.00000000
-2.43840000
433945.95334014
5331115.99993677
