2.43840000
0.00000000
0.00000000
-2.43840000
443274.07634224
5331015.41883865
