2.43840000
0.00000000
0.00000000
-2.43840000
508381.73839064
5428030.81283963
