2.43840000
0.00000000
0.00000000
-2.43840000
526669.07808110
5428123.61976508
