2.43840000
0.00000000
0.00000000
-2.43840000
508405.62727663
5414135.30447945
