2.43840000
0.00000000
0.00000000
-2.43840000
526802.31619034
5400334.14938575
