2.43840000
0.00000000
0.00000000
-2.43840000
535990.53117346
5400405.43929559
