2.43840000
0.00000000
0.00000000
-2.43840000
499237.47915918
5372428.97465499
