2.43840000
0.00000000
0.00000000
-2.43840000
517705.72346961
5372491.81629885
