2.438400
0
0
-2.438400
553664.070535
5372830.495288
