2.43840000
0.00000000
0.00000000
-2.43840000
554775.60602327
5358902.20621407
