2.43840000
0.00000000
0.00000000
-2.43840000
564028.21284953
5359020.04692726
