2.43840000
0.00000000
0.00000000
-2.43840000
555048.51364493
5331114.85422375
