2.43840000
0.00000000
0.00000000
-2.43840000
572371.97908557
5428622.56063387
