2.438400
0
0
-2.438400
590468.266054
5428933.376586
