2.438400
0
0
-2.438400
628422.489217
5374124.138404
