2.438400
0
0
-2.438400
637558.070496
5374330.379539
