2.43840000
0.00000000
0.00000000
-2.43840000
592023.08134983
5345558.25512164
