2.438400
0
0
-2.438400
638651.057458
5332677.580335
