2.43840000
0.00000000
0.00000000
-2.43840000
499238.26305644
5316852.53808617
