2.43840000
0.00000000
0.00000000
-2.43840000
555181.21279405
5317223.88931567
