2.43840000
0.00000000
0.00000000
-2.43840000
564660.31815391
5303445.66914359
