2.43840000
0.00000000
0.00000000
-2.43840000
564815.69171782
5289555.34423127
