2.43840000
0.00000000
0.00000000
-2.43840000
499232.77703537
5275176.50112677
