2.43840000
0.00000000
0.00000000
-2.43840000
518024.17568642
5275238.37099852
