2.43840000
0.00000000
0.00000000
-2.43840000
565287.57934356
5247880.24104783
