2.43840000
0.00000000
0.00000000
-2.43840000
583151.27096429
5317615.35470302
