2.43840000
0.00000000
0.00000000
-2.43840000
592474.55494048
5317775.34856368
