2.43840000
0.00000000
0.00000000
-2.43840000
621025.17038903
5290559.34509324
