2.43840000
0.00000000
0.00000000
-2.43840000
630712.79989442
5276889.21781510
