2.43840000
0.00000000
0.00000000
-2.43840000
574546.23193951
5261899.88408764
