2.43840000
0.00000000
0.00000000
-2.43840000
631024.25785488
5262997.74073621
