2.43840000
0.00000000
0.00000000
-2.43840000
574723.04340652
5248008.27840107
